BEGIN:VCALENDAR
VERSION:2.0
PRODID:-//eventon.com NONSGML v1.0//EN
CALSCALE:GREGORIAN
METHOD:PUBLISH
BEGIN:VEVENT
UID:69e74d8d41954
DTSTAMP:20260421T101229Z
DTSTART:20230325T210500Z
DTEND:20230325T210500Z
LOCATION:
SUMMARY:Charla con Manuel Vargas
DESCRIPTION:Charla con Manuel Vargas Una de tantas miradas\nhttps://www.sfa
 lavesa.es/events/charla-con-manuel-vargas/
URL:https://www.sfalavesa.es/events/charla-con-manuel-vargas/
END:VEVENT
END:VCALENDAR