BEGIN:VCALENDAR
VERSION:2.0
PRODID:-//eventon.com NONSGML v1.0//EN
CALSCALE:GREGORIAN
METHOD:PUBLISH
BEGIN:VEVENT
UID:69eaf9f1855dd
DTSTAMP:20260424T050449Z
DTSTART:20220305T210000Z
DTEND:20220306T190000Z
LOCATION:Centro Cultural Montehermoso
SUMMARY:Taller Ser Libro con Julián Barón
DESCRIPTION:Taller Ser Libro con Julián Barón\nhttps://www.sfalavesa.es/e
 vents/taller-ser-libro-con-julian-baron-3/
URL:https://www.sfalavesa.es/events/taller-ser-libro-con-julian-baron-3/
END:VEVENT
END:VCALENDAR