BEGIN:VCALENDAR
VERSION:2.0
PRODID:-//eventon.com NONSGML v1.0//EN
CALSCALE:GREGORIAN
METHOD:PUBLISH
BEGIN:VEVENT
UID:69e74f6fe200e
DTSTAMP:20260421T102031Z
DTSTART:20211211T210000Z
DTEND:20211211T130000Z
LOCATION:Casco Viejo de Vitoria-Gasteiz
SUMMARY:Taller de fotografía de strobist
DESCRIPTION:Taller de fotografía de strobist\nhttps://www.sfalavesa.es/eve
 nts/taller-de-fotografia-de-strobist/
URL:https://www.sfalavesa.es/events/taller-de-fotografia-de-strobist/
END:VEVENT
END:VCALENDAR