BEGIN:VCALENDAR
VERSION:2.0
PRODID:-//eventon.com NONSGML v1.0//EN
CALSCALE:GREGORIAN
METHOD:PUBLISH
BEGIN:VEVENT
UID:69e73a5ef0bc9
DTSTAMP:20260421T085038Z
DTSTART:20190323T100000Z
DTEND:20190324T080000Z
LOCATION:Teatro Federico García Lorca CC Lakua Senda de los Echanove\,  2
SUMMARY:Taller de retrato para jóvenes "Litrato"
DESCRIPTION:Taller de retrato para jóvenes &#8220;Litrato&#8221;\nhttps://
 www.sfalavesa.es/events/taller-de-retrato-para-jovenes-litrato/
URL:https://www.sfalavesa.es/events/taller-de-retrato-para-jovenes-litrato/
END:VEVENT
END:VCALENDAR