BEGIN:VCALENDAR
VERSION:2.0
PRODID:-//eventon.com NONSGML v1.0//EN
CALSCALE:GREGORIAN
METHOD:PUBLISH
BEGIN:VEVENT
UID:69e73ab4d361f
DTSTAMP:20260421T085204Z
DTSTART:20181028T180000Z
DTEND:20181028T210000Z
LOCATION:Sociedad Fotográfica Alavesa C/ Pedro de Asua Nº 2\,  2ª Planta\,  Edificio del Seminario Pabellón "Los Latinos"
SUMMARY:Docu-pote: "La Sal de la Tierra"
DESCRIPTION:Docu-Pote: “La Sal de la Tierra”\nhttps://www.sfalavesa.es/
 events/docu-pote-la-sal-de-la-tierra/
URL:https://www.sfalavesa.es/events/docu-pote-la-sal-de-la-tierra/
END:VEVENT
END:VCALENDAR