BEGIN:VCALENDAR
VERSION:2.0
PRODID:-//eventon.com NONSGML v1.0//EN
CALSCALE:GREGORIAN
METHOD:PUBLISH
BEGIN:VEVENT
UID:69e7386c96611
DTSTAMP:20260421T084220Z
DTSTART:20260307T220000Z
DTEND:20260308T140000Z
LOCATION:
SUMMARY:CURSO DE BODEGÓN CREATIVO
DESCRIPTION:Curso centrado en la fotografía de naturaleza muerta y bodegó
 n creativo. El bodegón es una disciplina de la fotografía muy técnica y 
 a la vez muy creativa. En este curso exploraremos las infinitas posibilidad
 es que nos ofrece el bodegón creativo para conseguir imágenes atractivas 
 y divertidas. ¿En qué va a[..]\nhttps://www.sfalavesa.es/events/curso-de-
 bodegon-creativo/
URL:https://www.sfalavesa.es/events/curso-de-bodegon-creativo/
END:VEVENT
END:VCALENDAR